Workbook

Sheet 様式3-1
F2: 文字を入力
F3: 半角数字を入力
F4: プルダウンで選択 （直接入力も可）
A8: 様式3-1 | BT8: 【 令和 | CB8: 年度】
A10: 栄養管理報告書（様式3-1）
A11: （病院・診療所、介護老人保健施設、介護医療院、老人福祉施設、社会福祉施設）
BL12: 令和 | BR12: 年 | BW12: 月 | CB12: 日
A14: 西宮市保健所長 （宛） | AT14: 【設置者】 | AY14: 住所
AY15: （法人の場合）法人名
A16: 健康増進法第24条第1項の規定により、次のとおり栄養管理状況を報告します。 | AY16: （役職） | BN16: （氏名）
A18: 基本情報 | C18: 施設名 | AS18: 施設種類 | BG18: 1．病院・診療所 2．介護老人保健施設 3．介護医療院 4．老人福祉施設 5．社会福祉施設
C19: 所在地 | I19: 〒 | R19: 西宮市 | AS19: 給食運営方式 | BG19: 1.直営 2.全委託 3.一部委託
C20: 管理者名 | I20: （役職） | Y20: （氏名）
C21: 連絡先 | I21: ＴＥＬ | AS21: メールアドレス
C22: 許可病床・定員 | N22: 入所（入院） | AD22: 人 | AG22: 短期（ショートステイ） | AZ22: 人 | BB22: 通所 | BK22: 人 | BM22: その他( | BU22: ） | CC22: 人
C23: 食数 | N23: 朝 | V23: 昼 | AE23: 夕 | AM23: 合計（1日） | AU23: 給食 従事者 | BA23: 施設側（人） | BI23: 委託側（人） | BQ23: 他施設兼務(人） | CJ23: 【給食従事者について】
C24: 一般食 （通所除く） | I24: 常食 | T24: 食 | AB24: 食 | AK24: 食 | AM24: =SUM(N24,V24,AE24) -> 0 | AS24: 食 | BI24: ※施設専属 | CJ24: ※1：「常勤」とは、当該施設において他の正規職員と同様な勤務形態にある場合をいう。
I25: その他 | T25: 食 | AB25: 食 | AK25: 食 | AM25: =SUM(N25,V25,AE25) -> 0 | AS25: 食 | BA25: 常勤 | BE25: 非常勤 | BI25: 常勤 | BM25: 非常勤 | BU25: 兼務施設名(市内） | CJ25: ※2：「委託側・施設専属」とは、当該施設内に専属で勤務している委託職員数を記入する。 委託先本社に勤務している職員数は含めない。
C26: 特別食・療養食 | T26: 食 | AB26: 食 | AK26: 食 | AM26: =SUM(N26,V26,AE26) -> 0 | AS26: 食 | AU26: 管理栄養士 | CJ26: ※3：他施設と兼務している場合は、兼務している施設名を記入する。
C27: 通所 | T27: 食 | AB27: 食 | AK27: 食 | AM27: =SUM(N27,V27,AE27) -> 0 | AS27: 食 | AU27: 栄養士 | CJ27: （例1）・管理栄養士はA施設に籍を置き、Ｂ施設の栄養管理を行っている管理栄養士の場合
C28: その他 | T28: 食 | AB28: 食 | AK28: 食 | AM28: =SUM(N28,V28,AE28) -> 0 | AS28: 食 | AU28: 調理師 | CJ28: ・管理栄養士はA施設に籍を置き、A病院で併設のB施設の給食を提供している場合
C29: 職員食 | T29: 食 | AB29: 食 | AK29: 食 | AM29: =SUM(N29,V29,AE29) -> 0 | AS29: 食 | AU29: 調理員 | CJ29: →A施設の報告書では「施設側・常勤」に計上し、Ｂ施設の報告書では「他施設兼務」に 計上し、兼務施設名に「A施設」と記入する。ただし、市外施設との兼務は『市外施設』 と記入する。
C30: 合計 | N30: =SUM(N24:S29) -> 0 | T30: 食 | V30: =SUM(V24:AA29) -> 0 | AB30: 食 | AE30: =SUM(AE24:AJ29) -> 0 | AK30: 食 | AM30: =SUM(N30,V30,AE30) -> 0 | AS30: 食 | AU30: その他
C31: 栄養管理の 実務者 | N31: 氏名 | AV31: 資格 | BK31: 1.管理栄養士 2.栄養士 3.その他 | CJ31: （例2）委託会社の管理栄養士が、複数の施設の栄養管理を行い、定期的に担当施設を巡回している場合
N32: 所属 | V32: 1．施設雇用 2．委託雇用 | AV32: 当該施設の担当年数 | BL32: 年 | CJ32: →「他施設兼務」に計上し、市内の兼務施設名を記入する。
C33: 委託先 （委託の場合は記入） | N33: 会社名 | AV33: 所在地 | BR33: 委託契約書 | CA33: 1.あり
N34: 施設担当者名 | AV34: ＴＥＬ | CA34: 2.なし
N35: 委託内容 (○×） | Y35: 献立作成 | AI35: 食材購入 | AS35: 調理・盛付 | BC35: 配膳・下膳 | BL35: 食器洗浄 | BV35: 施設外調理
A36: 体制整備 | C36: 栄養管理に 関する会議 | N36: 会議の有無 | AA36: 1．有 | AG36: 2.無 | AQ36: 実施回数 | AY36: 年 | BF36: 回 | BJ36: 会議録の保存 | BV36: 1．有 2.無
N37: 目的 (○×） | Z37: 栄養管理における課題の把握と解決のための改善策の検討 | BJ37: 適切な栄養管理を行うための連携強化
Z38: 献立内容の検討 | AR38: 苦情処理 | BJ38: その他 （ | CE38: )
N39: 構成 職種 （○×） | R39: 施設側 | AA39: 管理者 | AS39: 医師 | BH39: 看護師 | BS39: 管理栄養士 / 栄養士
AA40: 調理師/調理員 | AS40: 介護担当者 | BH40: 指導員 | BS40: その他（ | CE40: ）
R41: 委託側 | AA41: 管理栄養士 / 栄養士 | AS41: 調理師 / 調理員 | BG41: その他（ | CE41: ）
C42: 栄養管理 に関する 連携体制 | I42: 施設内 | N42: 栄養アセスメントの実施 | AF42: 1．有 2．無 | AJ42: →（実施率 | AV42: ％） | AY42: 栄養サポートチームの設置 | BR42: １．有 | BW42: 2．無
I43: 施設外 | N43: 連携体制 の有無 | AA43: １．有 | AE43: → | AH43: 【連携先】 （○×） | AS43: 医療機関 | BE43: 介護保険施設 | BR43: 老人/社会福祉施設
AA44: 2．無 | AS44: 事業所（ | AW44: 通所事業所等） | BQ44: その他（ | CE44: ）
C45: 従事者の人材育成 | N45: 研修体制 の有無 | Z45: １．有 ２．無 | AE45: → | AH45: 【実施方法】 （○×） | AR45: 施設内研修会の参加 | BG45: 施設外研修・学会の参加 | BW45: 現場教育（ＯＪＴ）
C46: 非常時の対応・備え | N46: 食中毒等対策マニュアル | AF46: １．有 | AK46: 2．無 | AS46: 非常食の備蓄の有無 | BI46: 1.有（ | BP46: 人分× | BW46: 日分） | CA46: 2．無
N47: 災害対策マニュアル | AF47: １．有 | AK47: 2．無 | AS47: 特別（療養）食への対応 | BJ47: １．有 | BO47: 2．無
N48: 他施設との連携体制 | AF48: １．有 | AK48: 2．無 | AS48: 他部門職員への周知 | BJ48: １．有 | BO48: 2．無
C50: 施設名 | I50: =I18 -> 0 | AT50: ←1ページ目の施設名を入力すると反映されます
A52: アセスメント・計画・実施・評価 | C52: 対象者の把握（アセスメント） ※年1回以上の把握 (該当項目に○×） | Y52: 性別 | AG52: 年齢 | AQ52: 身長 | AX52: 体重 | BE52: ＢＭＩ | BL52: 身体活動レベル | BW52: 血液検査結果
Y53: 疾患 | AG53: 摂食・嚥下機能 | AX53: 食物アレルギー | BL53: 生活環境 | BT53: その他（ | CE53: ）
C54: 施設の食事摂取基準 | N54: 給与栄養目標量 | Z54: 1．設定あり（ | AN54: 年 | AW54: 月作成） | BC54: 2.設定なし
N55: 見直しの頻度 | Z55: 1．年1回以上 | AJ55: 2. 2～4年おき | AT55: 3. 5年おき（日本人の食事摂取基準の改定にあわせて） | BT55: 4．5年以上見直しなし
C56: 栄養摂取状況 【 食種 】 | AN56: （給食数の多い食種 ／ 10月実績、1人1日平均）
C57: 栄養素名等 | N57: 施設基準（目標量） | AB57: 給与栄養量 | AQ57: エネルギー産生栄養素バランス | BE57: 施設基準（目標量） | BR57: 給与量
C58: エネルギー | W58: kcal | AK58: kcal | AQ58: たんぱく質エネルギー比 | BP58: ％ | CD58: ％
C59: たんぱく質 | W59: g | AK59: g | AQ59: 脂質エネルギー比 | BP59: ％ | CD59: ％
C60: 脂質 | W60: g | AK60: g | AQ60: 炭水化物エネルギー比 | BP60: ％ | CD60: ％
C61: ビタミンＡ | W61: ㎍RAE | AK61: ㎍RAE
C62: ビタミンＢ1 | W62: ｍｇ | AK62: ｍｇ
C63: ビタミンＢ2 | W63: ｍｇ | AK63: ｍｇ | AQ63: 栄養関連施策項目 | BE63: 施設基準（目標量） | BR63: 提供量
C64: ビタミンＣ | W64: ｍｇ | AK64: ｍｇ | AQ64: 野菜・ 果物の 提供量 | AW64: 緑黄色野菜 | BP64: ｇ | CD64: ｇ
C65: カルシウム | W65: ｍｇ | AK65: ｍｇ | AW65: その他の野菜 | BP65: ｇ | CD65: ｇ
C66: 鉄 | W66: ｍｇ | AK66: ｍｇ | AW66: 果物 | BP66: ｇ | CD66: ｇ
C67: 食物繊維 | W67: g | AK67: g
C68: 食塩相当量 | W68: g | AK68: g
C69: 献立作成 | S69: 1．有 2．無 | W69: → 【作成者】 | AD69: 所属： | AL69: 1.施設側 2.委託側 | AT69: 職種： | AZ69: 1.管理栄養士・栄養士 2.調理師 3.その他 | BN69: 氏名：
C70: 健康・栄養情報の提供 | N70: 献立の栄養成分表示 | AC70: 1．有 2．無 | AG70: → | AI70: 該当項目に○× | AQ70: エネルギー | AZ70: たんぱく質 | BI70: 脂質 | BO70: 炭水化物 | BW70: 食塩相当量
N71: 献立表の掲示 | AC71: １．有 | AH71: 2．無 | AP71: 給食時の訪問（ミールラウンド） | BK71: １．有 | BP71: 2．無
C72: 検食の実施 | S72: １．有 | W72: → | Y72: 【検食者】 | AH72: 管理栄養士 / 栄養士 | AY72: 医師 | BG72: その他（ | CE72: ）
S73: 2．無 | Y73: 【記録】 | AI73: １．有 | AN73: 2．無
C74: 摂取量の把握 | S74: 1．有 2．無 | W74: → | Y74: 【方法】 | AI74: １．個別 | AN74: 2．全体 | AS74: 3.その他（ | BI74: ） | BK74: 【結果の活用】 | BW74: １．有 | CA74: 2．無
C75: 栄養指導状況 | R75: 入院（入所） | AG75: 外来（通所） | AV75: 訪問 | BJ75: 管理栄養士養成施設学生の受け入れ
N76: 個別 | AD76: 件 | AS76: 件 | BH76: 件 | BQ76: 校 | BZ76: 名
N77: 集団 | W77: 回 | AD77: 人 | AL77: 回 | AS77: 人
C78: 栄養管理における 課題、課題に対する 取組み状況
A80: 報告作成者 | N80: 所属 | AE80: 職名 | AV80: 氏名 | BM80: 連絡先

Sheet 【入力不可】集計用
A1: 施設種類 | B1: 施設名 | C1: 住所 | D1: ＴＥＬ | E1: メール アドレス | F1: 管理者 | G1: 給食運営 | H1: 許可病床・定員 | L1: 給食数 | P1: 給食従事者 （施設） | S1: 給食従事者 （委託先） | V1: 栄養管理 責任者/実務者 | Y1: 委託内容 | AF1: 給食委員会 | AI1: 目的 | AN1: 構成職種 ・管理者 | AY1: 連携体制 （施設内） | BB1: 連携体制（外部） | BH1: 従事者の人材育成 | BL1: 非常時の対応・備え | BS1: 対象者の把握項目 | CE1: 施設の食事摂取基準 | CG1: 給与栄養目標量 | CR1: 給与栄養量 | DC1: エネルギー産生栄養素バランス(給与） | DF1: 栄養施策関連 | DI1: 栄養施策関連 | DL1: 献立作成 | DO1: 健康情報 | DR1: 検食 | DW1: 摂取量の把握 | DZ1: 栄養指導 | ED1: 課題等
G2: 直営 /委託 | L2: 食数（朝） | M2: 食数（昼） | N2: 食数（夕） | O2: 食数 （1日） | P2: 常勤 | S2: 常勤 | V2: 資格 | W2: 所属 | AA2: 委託内容 | AF2: 会議 有無 | AG2: 実施回数 | AH2: 会議録の保存 | AI2: 課題把握と改善策 | AJ2: 連携強化 | AK2: 献立内容の検討 | AL2: 苦情処理 | AM2: その他 | AN2: 施設側 | AV2: 委託側 | AY2: アセスメント | BA2: 栄養サポートチーム | BC2: 連携先 | BH2: 研修体制の有無 | BI2: 内容 | BL2: 食中毒 マニュアル | BM2: 災害 マニュアル | BN2: 他施設との連携 | BO2: 備蓄 | BR2: 他部門への周知 | BS2: 性 | BT2: 年齢 | BU2: 身長 | BV2: 体重 | BW2: ＢＭＩ | BX2: 身体活動レベル | BY2: 血液検査結果 | BZ2: 疾患 | CA2: 摂食・嚥下機能 | CB2: 食物アレルギー | CC2: 生活環境 | CD2: その他 | CE2: 栄養目標量の有無 | CG2: エネルギー（目標） | CH2: たんぱく質（目標） | CI2: 脂質（目標） | CJ2: ビタミンA（目標） | CK2: ビタミンB1（目標） | CL2: ビタミンB2（目標） | CM2: ビタミンC（目標） | CN2: カルシウム（目標） | CO2: 鉄（目標） | CP2: 食物繊維（目標） | CQ2: 食塩（目標） | CR2: エネルギー（給与） | CS2: たんぱく質（給与） | CT2: 脂質（給与） | CU2: ビタミンＡ（給与） | CV2: ビタミンＢ1（給与） | CW2: ビタミンＢ2（給与） | CX2: ビタミンＣ（給与） | CY2: カルシウム（給与） | CZ2: 鉄（給与） | DA2: 食物繊維（給与） | DB2: 食塩（給与） | DC2: たんぱく質エネルギー比 | DF2: 目標量 | DI2: 提供量 | DL2: 有無 | DM2: 所属 | DN2: 職種 | DP2: 献立表の提供 | DQ2: ミールラウンド | DR2: 有無 | DS2: 検食者 | DV2: 記録 | DW2: 有無 | DX2: 調査方法 | DY2: 結果の活用 | DZ2: 個別 | EA2: 集団 | EB2: 訪問
G3: 直営 /委託 | H3: 入院 | I3: 短期 | J3: 通所 | K3: その他 | P3: 管栄 | Q3: 栄 | R3: 調理師 | S3: 管栄 | T3: 栄 | U3: 調理師 | X3: 当該年数 | Y3: 委託会社 | Z3: 委託契約書の有無 | AA3: 献立作成 | AB3: 食材購入 | AC3: 調理・盛り付け | AD3: 食器洗浄 | AE3: 施設外調理 | AF3: 委員会の有無 | AG3: 実施回数 | AH3: 会議録の保存 | AI3: 課題把握と改善策 | AJ3: 連携強化 | AK3: 献立内容の検討 | AL3: 苦情処理 | AM3: その他 | AN3: 管理者 | AO3: 医師 | AP3: 看護師 | AQ3: 管理栄養士・栄養士 | AR3: 調理師・調理員 | AS3: 介護担当者 | AT3: 指導員 | AU3: その他 | AV3: 管理栄養士・栄養士 | AW3: 調理師・調理員 | AX3: その他 | AY3: 有無 | AZ3: 実施率 | BB3: 有無 | BC3: 医療機関 | BD3: 介護保険施設 | BE3: 老人/社会福祉施設 | BF3: 事業所（通所事業所等） | BG3: その他 | BI3: 施設内研修 | BJ3: 施設外研修 | BK3: 現場教育 | BP3: 何日分 | BQ3: 特別食への対応 | BS3: 性 | BT3: 年齢 | BU3: 身長 | BV3: 体重 | BW3: ＢＭＩ | BX3: 身体活動レベル | BY3: 血液検査結果 | BZ3: 疾患 | CA3: 摂食・嚥下機能 | CB3: 食習慣 | CC3: 生活環境 | CD3: その他 | CE3: 栄養目標量の有無 | CF3: 見直しの頻度 | CG3: エネルギー（目標） | CH3: たんぱく質（目標） | CI3: 脂質（目標） | CJ3: 脂質（目標） | CK3: 脂質（目標） | CL3: 脂質（目標） | CM3: 脂質（目標） | CN3: カルシウム（目標） | CO3: 鉄（目標） | CP3: 食物繊維（目標） | CQ3: 食塩（目標） | CR3: エネルギー（給与） | CS3: たんぱく質（給与） | CT3: 脂質（給与） | CU3: ビタミンＡ（給与） | CV3: ビタミンＢ1（給与） | CW3: ビタミンＢ2（給与） | CX3: ビタミンＣ（給与） | CY3: カルシウム（給与） | CZ3: 鉄（給与） | DA3: 食物繊維（給与） | DB3: 食塩（給与） | DD3: 脂質エネルギー比 | DE3: 炭水化物エネルギー比 | DF3: 緑黄色野菜 | DG3: その他の野菜 | DH3: 果物 | DI3: 緑黄色野菜 | DJ3: その他の野菜 | DK3: 果物 | DL3: 有無 | DO3: 栄養成分表示 | DP3: 献立表の提供 | DR3: 有無 | DS3: 管理栄養士・栄養士 | DT3: 医師 | DU3: その他 | DV3: 有無 | EC3: 実習生の受け入れ
A4: ='様式3-1'!BC18 -> 0 | B4: ='様式3-1'!I18 -> 0 | C4: ='様式3-1'!V19 -> 0 | D4: ='様式3-1'!L21 -> 0 | E4: ='様式3-1'!BC21 -> 0 | F4: ='様式3-1'!AC20 -> 0 | G4: ='様式3-1'!BC19 -> 0 | H4: ='様式3-1'!U22 -> 0 | I4: ='様式3-1'!AR22 -> 0 | J4: ='様式3-1'!BE22 -> 0 | K4: ='様式3-1'!BV22 -> 0 | L4: ='様式3-1'!N30 -> 0 | M4: ='様式3-1'!V30 -> 0 | N4: ='様式3-1'!AE30 -> 0 | O4: ='様式3-1'!AM30 -> 0 | P4: ='様式3-1'!BA26 -> 0 | Q4: ='様式3-1'!BA27 -> 0 | R4: ='様式3-1'!BA28 -> 0 | S4: ='様式3-1'!BI26 -> 0 | T4: ='様式3-1'!BI27 -> 0 | U4: ='様式3-1'!BI28 -> 0 | V4: ='様式3-1'!BG31 -> 0 | W4: ='様式3-1'!R32 -> 0 | X4: ='様式3-1'!BG32 -> 0 | Y4: ='様式3-1'!V33 -> 0 | Z4: ='様式3-1'!BX33 -> 0 | AA4: ='様式3-1'!V35 -> 0 | AB4: ='様式3-1'!AE35 -> 0 | AC4: ='様式3-1'!AO35 -> 0 | AD4: ='様式3-1'!BI35 -> 0 | AE4: ='様式3-1'!BS35 -> 0 | AF4: ='様式3-1'!V36 -> 0 | AG4: ='様式3-1'!BA36 -> 0 | AH4: ='様式3-1'!BR36 -> 0 | AI4: ='様式3-1'!V37 -> 0 | AJ4: ='様式3-1'!BF37 -> 0 | AK4: ='様式3-1'!V38 -> 0 | AL4: ='様式3-1'!AN38 -> 0 | AM4: ='様式3-1'!BF38 -> 0 | AN4: ='様式3-1'!V39 -> 0 | AO4: ='様式3-1'!AN39 -> 0 | AP4: ='様式3-1'!BC39 -> 0 | AQ4: ='様式3-1'!BN39 -> 0 | AR4: ='様式3-1'!V40 -> 0 | AS4: ='様式3-1'!AN40 -> 0 | AT4: ='様式3-1'!BC40 -> 0 | AU4: ='様式3-1'!BN40 -> 0 | AV4: ='様式3-1'!V41 -> 0 | AW4: ='様式3-1'!AN41 -> 0 | AX4: ='様式3-1'!BC41 -> 0 | AY4: ='様式3-1'!AA42 -> 0 | AZ4: ='様式3-1'!AQ42 -> 0 | BA4: ='様式3-1'!BM42 -> 0 | BB4: ='様式3-1'!V43 -> 0 | BC4: ='様式3-1'!AN43 -> 0 | BD4: ='様式3-1'!BA43 -> 0 | BE4: ='様式3-1'!BM43 -> 0 | BF4: ='様式3-1'!AN44 -> 0 | BG4: ='様式3-1'!BM44 -> 0 | BH4: ='様式3-1'!V45 -> 0 | BI4: ='様式3-1'!AN45 -> 0 | BJ4: ='様式3-1'!BC45 -> 0 | BK4: ='様式3-1'!BS45 -> 0 | BL4: ='様式3-1'!AA46 -> 0 | BM4: ='様式3-1'!AA47 -> 0 | BN4: ='様式3-1'!AA48 -> 0 | BO4: ='様式3-1'!BE46 -> 0 | BP4: ='様式3-1'!BT46 -> 0 | BQ4: ='様式3-1'!BE47 -> 0 | BR4: ='様式3-1'!BE48 -> 0 | BS4: ='様式3-1'!V52 -> 0 | BT4: ='様式3-1'!AD52 -> 0 | BU4: ='様式3-1'!AN52 -> 0 | BV4: ='様式3-1'!AU52 -> 0 | BW4: ='様式3-1'!BI52 -> 0 | BX4: ='様式3-1'!BI52 -> 0 | BY4: ='様式3-1'!BT52 -> 0 | BZ4: ='様式3-1'!V53 -> 0 | CA4: ='様式3-1'!AD53 -> 0 | CB4: ='様式3-1'!AU53 -> 0 | CC4: ='様式3-1'!BI53 -> 0 | CD4: ='様式3-1'!BQ53 -> 0 | CE4: ='様式3-1'!V54 -> 0 | CF4: ='様式3-1'!V55 -> 0 | CG4: ='様式3-1'!N58 -> 0 | CH4: ='様式3-1'!N59 -> 0 | CI4: ='様式3-1'!N60 -> 0 | CJ4: ='様式3-1'!N61 -> 0 | CK4: ='様式3-1'!N62 -> 0 | CL4: ='様式3-1'!N63 -> 0 | CM4: ='様式3-1'!N64 -> 0 | CN4: ='様式3-1'!N65 -> 0 | CO4: ='様式3-1'!N66 -> 0 | CP4: ='様式3-1'!N67 -> 0 | CQ4: ='様式3-1'!N68 -> 0 | CR4: ='様式3-1'!AB58 -> 0 | CS4: ='様式3-1'!AB59 -> 0 | CT4: ='様式3-1'!AB60 -> 0 | CU4: ='様式3-1'!AB61 -> 0 | CV4: ='様式3-1'!AB62 -> 0 | CW4: ='様式3-1'!AB63 -> 0 | CX4: ='様式3-1'!AB64 -> 0 | CY4: ='様式3-1'!AB65 -> 0 | CZ4: ='様式3-1'!AB66 -> 0 | DA4: ='様式3-1'!AB67 -> 0 | DB4: ='様式3-1'!AB68 -> 0 | DC4: ='様式3-1'!BR58 -> 0 | DD4: ='様式3-1'!BR59 -> 0 | DE4: ='様式3-1'!BR60 -> 0 | DF4: ='様式3-1'!BE64 -> 0 | DG4: ='様式3-1'!BE65 -> 0 | DH4: ='様式3-1'!BE66 -> 0 | DI4: ='様式3-1'!BR64 -> 0 | DJ4: ='様式3-1'!BR65 -> 0 | DK4: ='様式3-1'!BR66 -> 0 | DL4: ='様式3-1'!N69 -> 0 | DM4: ='様式3-1'!AH69 -> 0 | DN4: ='様式3-1'!AW69 -> 0 | DO4: ='様式3-1'!Y70 -> 0 | DP4: ='様式3-1'!Y71 -> 0 | DQ4: ='様式3-1'!BF71 -> 0 | DR4: ='様式3-1'!N72 -> 0 | DS4: ='様式3-1'!AD72 -> 0 | DT4: ='様式3-1'!AU72 -> 0 | DU4: ='様式3-1'!BC72 -> 0 | DV4: ='様式3-1'!AD73 -> 0 | DW4: ='様式3-1'!N74 -> 0 | DX4: ='様式3-1'!AD74 -> 0 | DY4: ='様式3-1'!BS74 -> 0 | DZ4: =IF(OR('様式3-1'!R76>=1,'様式3-1'!AG76>=1),1,IF(AND('様式3-1'!R76=0,'様式3-1'!AG76=0),2,"")) -> 2 | EA4: =IF(OR('様式3-1'!Y77>=1,'様式3-1'!AN77>=1),1,IF(AND('様式3-1'!Y77=0,'様式3-1'!AN77=0),2,"")) -> 2 | EB4: =IF('様式3-1'!AV76>=1,1,2) -> 2 | EC4: =IF('様式3-1'!BK76>=1,1,2) -> 2 | ED4: =IF(ISTEXT('様式3-1'!N78), 1, 2) -> 2
DZ6: ↑
DZ7: 入院・外来どちらかが1回以上あり「1」どちらもなし「2」

Sheet 【入力不可】入力規則
A1: 1 | B1: ○
A2: 2 | B2: ×
A3: 3
A4: 4
A5: 5
A6: 6
